BEGIN:VCALENDAR
VERSION:2.0
PRODID:-//wp-events-plugin.com//7.2//EN
BEGIN:VEVENT
UID:3@buckinstitute.org
DTSTART;TZID=America/Los_Angeles:20260506T110000
DTEND;TZID=America/Los_Angeles:20260506T120000
DTSTAMP:20260415T000222Z
URL:https://www.buckinstitute.org/events/lblseminars/
SUMMARY:Live Better Longer Community Seminar Series
DESCRIPTION:The Buck Institute is hosting in-person (with zoom option) mont
 hly conversations with geroscience experts about how people can live longe
 r\, healthier lives. Speakers in the Live Better Longer Seminar Series wil
 l share the latest insights into sleep\, exercise\, nutrition\, mental hea
 lth and how people of any age can optimize their health and fitness.\nSemi
 nar 11: Wednesday\, May 6 @ 11am (PT)\nScientific Wellness to Unlock Longe
 r\, Healthier Lives\nNathan Price\, PhD\nProfessor and Co-Director\, Cente
 r for Human Healthspan\, Buck Institute\n\nWhat’s the next seminar about
 ?\nBy combining big data\, advanced AI\, and deep biological insights\, Dr
 . Price is uncovering how genetics\, lifestyle\, and environment interact 
 over time to drive aging and disease. He is developing personalized tools
 —like “digital twins” and AI-powered health analyzers—that can sim
 ulate your unique biology and suggest tailored strategies to help you thri
 ve.\nView digital program\nView recordings of past seminars\nFor the May 6
  seminar only: We’re excited to launch a special raffle in support of th
 e Buck Institute’s brilliant students and early-career scientists. Enter
  for a chance to win one of 8 WHOOP wearables (a $200+ value)\, powerful t
 ools that help you track sleep\, recovery\, strain\, and overall health to
  optimize your wellness goals. Every raffle entry directly supports our ne
 xt generation of researchers\, empowering their work\, fueling innovation\
 , and accelerating breakthroughs in the fight against age-related diseases
 . Join us in investing in the future of science - and your own health - by
  participating today! (Includes 12 month free membership!)\nRegistration w
 ill take place every month for the upcoming seminar. Keep an eye out for a
 n email from us when registration opens for each seminar.
CATEGORIES:Standard Events
LOCATION:Buck Institute for Research on Aging\, 8001 Redwood Blvd.\, Novato
 \, CA\, 94945\, United States
X-APPLE-STRUCTURED-LOCATION;VALUE=URI;X-ADDRESS=8001 Redwood Blvd.\, Novato
 \, CA\, 94945\, United States;X-APPLE-RADIUS=100;X-TITLE=Buck Institute fo
 r Research on Aging:geo:0,0
END:VEVENT
BEGIN:VTIMEZONE
TZID:America/Los_Angeles
X-LIC-LOCATION:America/Los_Angeles
BEGIN:DAYLIGHT
DTSTART:20260308T030000
TZOFFSETFROM:-0800
TZOFFSETTO:-0700
TZNAME:PDT
END:DAYLIGHT
END:VTIMEZONE
END:VCALENDAR