BEGIN:VCALENDAR
VERSION:2.0
PRODID:-//wp-events-plugin.com//7.2//EN
BEGIN:VEVENT
UID:2@buckinstitute.org
DTSTART;TZID=America/Los_Angeles:20250501T000000
DTEND;TZID=America/Los_Angeles:20250501T000000
DTSTAMP:20260330T193638Z
URL:https://www.buckinstitute.org/events/formal-research-seminars/
SUMMARY:The James A. Aleveras & Paul F. Glenn Formal Research Seminars
DESCRIPTION:For Buck scientists only
CATEGORIES:FRS Events
END:VEVENT
BEGIN:VTIMEZONE
TZID:America/Los_Angeles
X-LIC-LOCATION:America/Los_Angeles
BEGIN:DAYLIGHT
DTSTART:20250309T030000
TZOFFSETFROM:-0800
TZOFFSETTO:-0700
TZNAME:PDT
END:DAYLIGHT
END:VTIMEZONE
END:VCALENDAR